BEGIN:VCALENDAR
VERSION:2.0
PRODID:icalendar-ruby
CALSCALE:GREGORIAN
METHOD:PUBLISH
BEGIN:VEVENT
DTSTAMP:20260421T123823Z
UID:6-1366395@meadvillechurch.org
DTSTART:20260802T134500Z
DTEND:20260802T144500Z
CLASS:PUBLIC
CREATED:20260421T072617
DESCRIPTION:Bible Study Classes
LAST-MODIFIED:20260421T072617
LOCATION:Church
SUMMARY:Bible Study Classes
URL;VALUE=URI:https://meadvillechurch.org/events/bible-study-classes/2026-0
 8-02
END:VEVENT
END:VCALENDAR
