BEGIN:VCALENDAR
VERSION:2.0
PRODID:icalendar-ruby
CALSCALE:GREGORIAN
METHOD:PUBLISH
BEGIN:VEVENT
DTSTAMP:20260421T155503Z
UID:6-1367385@meadvillechurch.org
DTSTART:20260816T134500Z
DTEND:20260816T144500Z
CLASS:PUBLIC
CREATED:20260421T100155
DESCRIPTION:Bible Study Classes
LAST-MODIFIED:20260421T100155
LOCATION:Church
SUMMARY:Bible Study Classes
URL;VALUE=URI:https://meadvillechurch.org/events/bible-study-classes/2026-0
 8-16
END:VEVENT
END:VCALENDAR
