BEGIN:VCALENDAR
VERSION:2.0
PRODID:icalendar-ruby
CALSCALE:GREGORIAN
METHOD:PUBLISH
BEGIN:VEVENT
DTSTAMP:20260421T172958Z
UID:6-1368374@meadvillechurch.org
DTSTART:20260823T134500Z
DTEND:20260823T144500Z
CLASS:PUBLIC
CREATED:20260421T124014
DESCRIPTION:Bible Study Classes
LAST-MODIFIED:20260421T124014
LOCATION:Church
SUMMARY:Bible Study Classes
URL;VALUE=URI:https://meadvillechurch.org/events/bible-study-classes/2026-0
 8-23
END:VEVENT
END:VCALENDAR
