BEGIN:VCALENDAR
VERSION:2.0
PRODID:icalendar-ruby
CALSCALE:GREGORIAN
METHOD:PUBLISH
BEGIN:VEVENT
DTSTAMP:20260422T012902Z
UID:6-1371343@meadvillechurch.org
DTSTART:20260927T134500Z
DTEND:20260927T144500Z
CLASS:PUBLIC
CREATED:20260421T203346
DESCRIPTION:Bible Study Classes
LAST-MODIFIED:20260421T203346
LOCATION:Church
SUMMARY:Bible Study Classes
URL;VALUE=URI:https://meadvillechurch.org/events/bible-study-classes/2026-0
 9-27
END:VEVENT
END:VCALENDAR
