BEGIN:VCALENDAR
VERSION:2.0
PRODID:icalendar-ruby
CALSCALE:GREGORIAN
METHOD:PUBLISH
BEGIN:VEVENT
DTSTAMP:20260422T031500Z
UID:6-1371344@meadvillechurch.org
DTSTART:20261004T134500Z
DTEND:20261004T144500Z
CLASS:PUBLIC
CREATED:20260421T203346
DESCRIPTION:Bible Study Classes
LAST-MODIFIED:20260421T203346
LOCATION:Church
SUMMARY:Bible Study Classes
URL;VALUE=URI:https://meadvillechurch.org/events/bible-study-classes/2026-1
 0-04
END:VEVENT
END:VCALENDAR
