BEGIN:VCALENDAR
VERSION:2.0
PRODID:icalendar-ruby
CALSCALE:GREGORIAN
METHOD:PUBLISH
BEGIN:VEVENT
DTSTAMP:20260422T080628Z
UID:6-1371347@meadvillechurch.org
DTSTART:20261025T134500Z
DTEND:20261025T144500Z
CLASS:PUBLIC
CREATED:20260421T203346
DESCRIPTION:Bible Study Classes
LAST-MODIFIED:20260421T203346
LOCATION:Church
SUMMARY:Bible Study Classes
URL;VALUE=URI:https://meadvillechurch.org/events/bible-study-classes/2026-1
 0-25
END:VEVENT
END:VCALENDAR
