BEGIN:VCALENDAR
VERSION:2.0
PRODID:icalendar-ruby
CALSCALE:GREGORIAN
METHOD:PUBLISH
BEGIN:VEVENT
DTSTAMP:20260420T054443Z
UID:57-1359259@meadvillechurch.org
DTSTART:20260812T220000Z
DTEND:20260812T230000Z
CLASS:PUBLIC
CREATED:20260419T224922
DESCRIPTION:
LAST-MODIFIED:20260419T224922
LOCATION:Church
SUMMARY:Prayer Meeting
URL;VALUE=URI:https://meadvillechurch.org/events/prayer-meeting/2026-08-12
ATTACH;FILENAME=God Answers Prayer.jpg;FMTTYPE=image/jpeg:https://dq5pwpg1q
 8ru0.cloudfront.net/2024/03/18/18/43/57/199ee83d-94a1-4a2e-9306-7582181349
 a3/God%20Answers%20Prayer.jpg
END:VEVENT
END:VCALENDAR
