BEGIN:VCALENDAR
VERSION:2.0
PRODID:icalendar-ruby
CALSCALE:GREGORIAN
METHOD:PUBLISH
BEGIN:VEVENT
DTSTAMP:20260420T135223Z
UID:7-1360698@meadvillechurch.org
DTSTART:20260920T144500Z
DTEND:20260920T154500Z
CLASS:PUBLIC
CREATED:20260420T072441
DESCRIPTION:Worship Service
LAST-MODIFIED:20260420T072441
LOCATION:Church
SUMMARY:Worship Service
URL;VALUE=URI:https://meadvillechurch.org/events/worship-service--7/2026-09
 -20
END:VEVENT
END:VCALENDAR
