BEGIN:VCALENDAR
VERSION:2.0
PRODID:icalendar-ruby
CALSCALE:GREGORIAN
METHOD:PUBLISH
BEGIN:VEVENT
DTSTAMP:20260420T151559Z
UID:7-1361687@meadvillechurch.org
DTSTART:20260927T144500Z
DTEND:20260927T154500Z
CLASS:PUBLIC
CREATED:20260420T100025
DESCRIPTION:Worship Service
LAST-MODIFIED:20260420T100025
LOCATION:Church
SUMMARY:Worship Service
URL;VALUE=URI:https://meadvillechurch.org/events/worship-service--7/2026-09
 -27
END:VEVENT
END:VCALENDAR
