BEGIN:VCALENDAR
VERSION:2.0
PRODID:icalendar-ruby
CALSCALE:GREGORIAN
METHOD:PUBLISH
BEGIN:VEVENT
DTSTAMP:20260420T184731Z
UID:7-1362677@meadvillechurch.org
DTSTART:20261011T144500Z
DTEND:20261011T154500Z
CLASS:PUBLIC
CREATED:20260420T123426
DESCRIPTION:Worship Service
LAST-MODIFIED:20260420T123426
LOCATION:Church
SUMMARY:Worship Service
URL;VALUE=URI:https://meadvillechurch.org/events/worship-service--7/2026-10
 -11
END:VEVENT
END:VCALENDAR
