BEGIN:VCALENDAR
VERSION:2.0
PRODID:icalendar-ruby
CALSCALE:GREGORIAN
METHOD:PUBLISH
BEGIN:VEVENT
DTSTAMP:20260420T220622Z
UID:7-1364655@meadvillechurch.org
DTSTART:20261025T144500Z
DTEND:20261025T154500Z
CLASS:PUBLIC
CREATED:20260420T174456
DESCRIPTION:Worship Service
LAST-MODIFIED:20260420T174456
LOCATION:Church
SUMMARY:Worship Service
URL;VALUE=URI:https://meadvillechurch.org/events/worship-service--7/2026-10
 -25
END:VEVENT
END:VCALENDAR
