BEGIN:VCALENDAR
VERSION:2.0
PRODID:icalendar-ruby
CALSCALE:GREGORIAN
METHOD:PUBLISH
BEGIN:VEVENT
DTSTAMP:20260420T234152Z
UID:7-1364656@meadvillechurch.org
DTSTART:20261101T154500Z
DTEND:20261101T164500Z
CLASS:PUBLIC
CREATED:20260420T174456
DESCRIPTION:Worship Service
LAST-MODIFIED:20260420T174456
LOCATION:Church
SUMMARY:Worship Service
URL;VALUE=URI:https://meadvillechurch.org/events/worship-service--7/2026-11
 -01
END:VEVENT
END:VCALENDAR
